BEGIN:VCALENDAR
VERSION:2.0
PRODID:-//Canberra &amp; Region Quakers - ECPv6.15.20//NONSGML v1.0//EN
CALSCALE:GREGORIAN
METHOD:PUBLISH
X-WR-CALNAME:Canberra &amp; Region Quakers
X-ORIGINAL-URL:https://actquakers.org.au
X-WR-CALDESC:Events for Canberra &amp; Region Quakers
REFRESH-INTERVAL;VALUE=DURATION:PT1H
X-Robots-Tag:noindex
X-PUBLISHED-TTL:PT1H
BEGIN:VTIMEZONE
TZID:Australia/Sydney
BEGIN:STANDARD
TZOFFSETFROM:+1100
TZOFFSETTO:+1000
TZNAME:AEST
DTSTART:20250405T160000
END:STANDARD
BEGIN:DAYLIGHT
TZOFFSETFROM:+1000
TZOFFSETTO:+1100
TZNAME:AEDT
DTSTART:20251004T160000
END:DAYLIGHT
BEGIN:STANDARD
TZOFFSETFROM:+1100
TZOFFSETTO:+1000
TZNAME:AEST
DTSTART:20260404T160000
END:STANDARD
BEGIN:DAYLIGHT
TZOFFSETFROM:+1000
TZOFFSETTO:+1100
TZNAME:AEDT
DTSTART:20261003T160000
END:DAYLIGHT
BEGIN:STANDARD
TZOFFSETFROM:+1100
TZOFFSETTO:+1000
TZNAME:AEST
DTSTART:20270403T160000
END:STANDARD
BEGIN:DAYLIGHT
TZOFFSETFROM:+1000
TZOFFSETTO:+1100
TZNAME:AEDT
DTSTART:20271002T160000
END:DAYLIGHT
END:VTIMEZONE
BEGIN:VEVENT
DTSTART;TZID=Australia/Sydney:20260404T110000
DTEND;TZID=Australia/Sydney:20260404T120000
DTSTAMP:20260420T234102
CREATED:20251014T064034Z
LAST-MODIFIED:20260325T055004Z
UID:20328-1775300400-1775304000@actquakers.org.au
SUMMARY:Quaker Vigil for Peace\, Garema Place\, Civic
DESCRIPTION:Saturday 4 April\, 11-12 noon: Quaker Vigil for Peace\, Garema Place\, Civic \nGiven the recent tragic threats to global peace\, we invite Friends to join us for this month’s Vigil for Peace. \nFriends are warmly invited to attend the Vigil for Peace and to bring a chair if they wish to sit comfortably\, although benches are available.  The location within Garema Place will depend on the weather\, but will be in a prominent position. A sandwich board bearing the words QUAKER VIGIL FOR PEACE will be at the assembly point. \nIf you have any questions\, please contact the Clerking Team: RMCanberraClerk@quakersaustralia.info. \nShare this event…\n\n    \n\n		\n        \n			                    \n                        \n\n                            \n                                \n                            \n\n							\n                            \n                                \n									0                                \n                                \n									Share                                \n                                \n									Facebook                                \n                            \n                        \n                    \n					                    \n                        \n\n                            \n                                \n                            \n\n							\n                            \n                                \n									0                                \n                                \n									Share                                \n                                \n									Facebook Messenger                                \n                            \n                        \n                    \n					                    \n                        \n\n                            \n                                \n                            \n\n							\n                            \n                                \n									0                                \n                                \n									Share                                \n                                \n									Twitter                                \n                            \n                        \n                    \n					                    \n                        \n\n                            \n                                \n                            \n\n							\n                            \n                                \n									0                                \n                                \n									Share                                \n                                \n									LinkedIn                                \n                            \n                        \n                    \n					                    \n                        \n\n                            \n                                \n                            \n\n							\n                            \n                                \n									0                                \n                                \n									Share                                \n                                \n									Pinterest                                \n                            \n                        \n                    \n					                    \n                        \n\n                            \n                                \n                            \n\n							\n                            \n                                \n									0                                \n                                \n									Share                                \n                                \n									WhatsApp                                \n                            \n                        \n                    \n					                    \n                        \n\n                            \n                                \n                            \n\n							\n                            \n                                \n									0                                \n                                \n									Share                                \n                                \n									Telegram                                \n                            \n                        \n                    \n					                    \n                        \n\n                            \n                                \n                            \n\n							\n                            \n                                \n									0                                \n                                \n									Share                                \n                                \n									Email
URL:https://actquakers.org.au/event/quaker-vigil-for-peace-garema-place-civic-3/
LOCATION:Garema Place\, Garema Place Square\, Canberra\, ACT\, 2601\, Australia
CATEGORIES:CRQ Events
ATTACH;FMTTYPE=image/webp:https://actquakers.org.au/wp-content/uploads/2024/11/CRQ-Garema-Place-Monthly-Vigil.webp
ORGANIZER;CN="CRQ Clerk":MAILTO:RMCanberraClerk@quakersaustralia.info
END:VEVENT
END:VCALENDAR